BEGIN:VCALENDAR
VERSION:2.0
PRODID:-//Sportfischer Krummensee e.V. - ECPv6.15.20//NONSGML v1.0//EN
CALSCALE:GREGORIAN
METHOD:PUBLISH
X-WR-CALNAME:Sportfischer Krummensee e.V.
X-ORIGINAL-URL:https://sportfischer-krummensee.de
X-WR-CALDESC:Veranstaltungen für Sportfischer Krummensee e.V.
REFRESH-INTERVAL;VALUE=DURATION:PT1H
X-Robots-Tag:noindex
X-PUBLISHED-TTL:PT1H
BEGIN:VTIMEZONE
TZID:Europe/Paris
BEGIN:DAYLIGHT
TZOFFSETFROM:+0100
TZOFFSETTO:+0200
TZNAME:CEST
DTSTART:20250330T010000
END:DAYLIGHT
BEGIN:STANDARD
TZOFFSETFROM:+0200
TZOFFSETTO:+0100
TZNAME:CET
DTSTART:20251026T010000
END:STANDARD
BEGIN:DAYLIGHT
TZOFFSETFROM:+0100
TZOFFSETTO:+0200
TZNAME:CEST
DTSTART:20260329T010000
END:DAYLIGHT
BEGIN:STANDARD
TZOFFSETFROM:+0200
TZOFFSETTO:+0100
TZNAME:CET
DTSTART:20261025T010000
END:STANDARD
BEGIN:DAYLIGHT
TZOFFSETFROM:+0100
TZOFFSETTO:+0200
TZNAME:CEST
DTSTART:20270328T010000
END:DAYLIGHT
BEGIN:STANDARD
TZOFFSETFROM:+0200
TZOFFSETTO:+0100
TZNAME:CET
DTSTART:20271031T010000
END:STANDARD
BEGIN:DAYLIGHT
TZOFFSETFROM:+0100
TZOFFSETTO:+0200
TZNAME:CEST
DTSTART:20280326T010000
END:DAYLIGHT
BEGIN:STANDARD
TZOFFSETFROM:+0200
TZOFFSETTO:+0100
TZNAME:CET
DTSTART:20281029T010000
END:STANDARD
END:VTIMEZONE
BEGIN:VEVENT
DTSTART;VALUE=DATE:20260426
DTEND;VALUE=DATE:20260427
DTSTAMP:20260425T160925
CREATED:20260111T085848Z
LAST-MODIFIED:20260111T085848Z
UID:1830-1777161600-1777247999@sportfischer-krummensee.de
SUMMARY:Kreismeisterschaft Männer/Frauen
DESCRIPTION:Beginn: 08:00 Uhr
URL:https://sportfischer-krummensee.de/event/kreismeisterschaft-maenner-frauen/
LOCATION:Oder-Spree Kanal
END:VEVENT
BEGIN:VEVENT
DTSTART;TZID=Europe/Paris:20260502T140000
DTEND;TZID=Europe/Paris:20260502T170000
DTSTAMP:20260425T160925
CREATED:20260111T090004Z
LAST-MODIFIED:20260111T090004Z
UID:1832-1777730400-1777741200@sportfischer-krummensee.de
SUMMARY:FA Schenkendorf
DESCRIPTION:
URL:https://sportfischer-krummensee.de/event/fa-schenkendorf/
LOCATION:Vereinshaus
END:VEVENT
BEGIN:VEVENT
DTSTART;TZID=Europe/Paris:20260509T080000
DTEND;TZID=Europe/Paris:20260509T110000
DTSTAMP:20260425T160925
CREATED:20260111T090048Z
LAST-MODIFIED:20260111T090229Z
UID:1834-1778313600-1778324400@sportfischer-krummensee.de
SUMMARY:FA Eichwalde
DESCRIPTION:
URL:https://sportfischer-krummensee.de/event/fa-eichwalde/
LOCATION:Eichwalde
END:VEVENT
BEGIN:VEVENT
DTSTART;VALUE=DATE:20260510
DTEND;VALUE=DATE:20260511
DTSTAMP:20260425T160925
CREATED:20260111T090434Z
LAST-MODIFIED:20260111T090434Z
UID:1838-1778371200-1778457599@sportfischer-krummensee.de
SUMMARY:Kreismeisterschaft Jugend
DESCRIPTION:Beginn: 08:00 Uhr
URL:https://sportfischer-krummensee.de/event/kreismeisterschaft-jugend/
LOCATION:Oder-Spree Kanal
END:VEVENT
BEGIN:VEVENT
DTSTART;VALUE=DATE:20260531
DTEND;VALUE=DATE:20260601
DTSTAMP:20260425T160925
CREATED:20260111T090541Z
LAST-MODIFIED:20260111T090541Z
UID:1840-1780185600-1780271999@sportfischer-krummensee.de
SUMMARY:Jugendpokal
DESCRIPTION:Beginn: 08:00 Uhr
URL:https://sportfischer-krummensee.de/event/jugendpokal/
LOCATION:Vereinshaus
END:VEVENT
BEGIN:VEVENT
DTSTART;TZID=Europe/Paris:20260606T150000
DTEND;TZID=Europe/Paris:20260606T190000
DTSTAMP:20260425T160925
CREATED:20260111T090817Z
LAST-MODIFIED:20260111T090817Z
UID:1842-1780758000-1780772400@sportfischer-krummensee.de
SUMMARY:2. Hegefischen
DESCRIPTION:
URL:https://sportfischer-krummensee.de/event/2-hegefischen/
LOCATION:Vereinshaus
END:VEVENT
BEGIN:VEVENT
DTSTART;VALUE=DATE:20260613
DTEND;VALUE=DATE:20260614
DTSTAMP:20260425T160925
CREATED:20260111T090927Z
LAST-MODIFIED:20260111T091109Z
UID:1844-1781308800-1781395199@sportfischer-krummensee.de
SUMMARY:5er Angeln
DESCRIPTION:
URL:https://sportfischer-krummensee.de/event/5er-angeln/
LOCATION:Körbis Krug
END:VEVENT
BEGIN:VEVENT
DTSTART;VALUE=DATE:20260621
DTEND;VALUE=DATE:20260622
DTSTAMP:20260425T160925
CREATED:20260111T091230Z
LAST-MODIFIED:20260111T091230Z
UID:1847-1782000000-1782086399@sportfischer-krummensee.de
SUMMARY:Krummenseepokal
DESCRIPTION:Beginn: 08:00 Uhr
URL:https://sportfischer-krummensee.de/event/krummenseepokal/
LOCATION:Vereinshaus
END:VEVENT
BEGIN:VEVENT
DTSTART;TZID=Europe/Paris:20260627T140000
DTEND;TZID=Europe/Paris:20260627T170000
DTSTAMP:20260425T160925
CREATED:20260111T091328Z
LAST-MODIFIED:20260111T091328Z
UID:1849-1782568800-1782579600@sportfischer-krummensee.de
SUMMARY:Paarangeln
DESCRIPTION:
URL:https://sportfischer-krummensee.de/event/paarangeln/
LOCATION:Vereinshaus
END:VEVENT
BEGIN:VEVENT
DTSTART;TZID=Europe/Paris:20260704T080000
DTEND;TZID=Europe/Paris:20260704T110000
DTSTAMP:20260425T160925
CREATED:20260111T145526Z
LAST-MODIFIED:20260111T145526Z
UID:1851-1783152000-1783162800@sportfischer-krummensee.de
SUMMARY:FA Rangsdorf
DESCRIPTION:
URL:https://sportfischer-krummensee.de/event/fa-rangsdorf/
LOCATION:Rangsdorf
CATEGORIES:Angeln
END:VEVENT
BEGIN:VEVENT
DTSTART;VALUE=DATE:20260705
DTEND;VALUE=DATE:20260706
DTSTAMP:20260425T160925
CREATED:20260111T145639Z
LAST-MODIFIED:20260111T145639Z
UID:1853-1783209600-1783295999@sportfischer-krummensee.de
SUMMARY:70 Jahre Krummensee
DESCRIPTION:Beginn: 09:00 Uhr
URL:https://sportfischer-krummensee.de/event/70-jahre-krummensee/
END:VEVENT
BEGIN:VEVENT
DTSTART;VALUE=DATE:20260712
DTEND;VALUE=DATE:20260713
DTSTAMP:20260425T160925
CREATED:20260111T145813Z
LAST-MODIFIED:20260111T145813Z
UID:1855-1783814400-1783900799@sportfischer-krummensee.de
SUMMARY:Ü 50 Angeln
DESCRIPTION:Beginn: 07:00 Uhr
URL:https://sportfischer-krummensee.de/event/ue-50-angeln/
LOCATION:Oder-Spree Kanal
END:VEVENT
BEGIN:VEVENT
DTSTART;TZID=Europe/Paris:20260724T190000
DTEND;TZID=Europe/Paris:20260724T233000
DTSTAMP:20260425T160925
CREATED:20260111T145934Z
LAST-MODIFIED:20260111T145934Z
UID:1857-1784919600-1784935800@sportfischer-krummensee.de
SUMMARY:Nachtangeln
DESCRIPTION:
URL:https://sportfischer-krummensee.de/event/nachtangeln/
LOCATION:Vereinshaus
CATEGORIES:Angeln
END:VEVENT
BEGIN:VEVENT
DTSTART;VALUE=DATE:20260802
DTEND;VALUE=DATE:20260803
DTSTAMP:20260425T160925
CREATED:20260111T150033Z
LAST-MODIFIED:20260111T150149Z
UID:1859-1785628800-1785715199@sportfischer-krummensee.de
SUMMARY:Bärenpokal
DESCRIPTION:
URL:https://sportfischer-krummensee.de/event/baerenpokal/
LOCATION:Neu Zittau
END:VEVENT
BEGIN:VEVENT
DTSTART;VALUE=DATE:20260816
DTEND;VALUE=DATE:20260817
DTSTAMP:20260425T160925
CREATED:20260111T150344Z
LAST-MODIFIED:20260111T150344Z
UID:1863-1786838400-1786924799@sportfischer-krummensee.de
SUMMARY:Kreis-Paarangeln
DESCRIPTION:Beginn: 08:00 Uhr
URL:https://sportfischer-krummensee.de/event/kreis-paarangeln/
LOCATION:Vereinshaus
END:VEVENT
BEGIN:VEVENT
DTSTART;VALUE=DATE:20260829
DTEND;VALUE=DATE:20260830
DTSTAMP:20260425T160925
CREATED:20260111T150505Z
LAST-MODIFIED:20260111T150505Z
UID:1865-1787961600-1788047999@sportfischer-krummensee.de
SUMMARY:Bootskorso
DESCRIPTION:Beginn: 16:00 Uhr
URL:https://sportfischer-krummensee.de/event/bootskorso/
LOCATION:Vereinshaus
END:VEVENT
BEGIN:VEVENT
DTSTART;VALUE=DATE:20260905
DTEND;VALUE=DATE:20260906
DTSTAMP:20260425T160925
CREATED:20260111T150607Z
LAST-MODIFIED:20260111T150607Z
UID:1867-1788566400-1788652799@sportfischer-krummensee.de
SUMMARY:Heimatfest
DESCRIPTION:
URL:https://sportfischer-krummensee.de/event/heimatfest/
END:VEVENT
BEGIN:VEVENT
DTSTART;VALUE=DATE:20260913
DTEND;VALUE=DATE:20260914
DTSTAMP:20260425T160925
CREATED:20260111T150732Z
LAST-MODIFIED:20260111T150732Z
UID:1869-1789257600-1789343999@sportfischer-krummensee.de
SUMMARY:Pokal des Präsidiums
DESCRIPTION:Beginn: 08:00 Uhr
URL:https://sportfischer-krummensee.de/event/pokal-des-praesidiums/
LOCATION:Oder-Spree Kanal
END:VEVENT
BEGIN:VEVENT
DTSTART;TZID=Europe/Paris:20260927T070000
DTEND;TZID=Europe/Paris:20260927T110000
DTSTAMP:20260425T160925
CREATED:20260111T150925Z
LAST-MODIFIED:20260111T150925Z
UID:1871-1790492400-1790506800@sportfischer-krummensee.de
SUMMARY:3. Hegefischen
DESCRIPTION:
URL:https://sportfischer-krummensee.de/event/3-hegefischen/
LOCATION:Vereinshaus
END:VEVENT
BEGIN:VEVENT
DTSTART;TZID=Europe/Paris:20261003T090000
DTEND;TZID=Europe/Paris:20261003T130000
DTSTAMP:20260425T160925
CREATED:20260111T151115Z
LAST-MODIFIED:20260111T151115Z
UID:1873-1791018000-1791032400@sportfischer-krummensee.de
SUMMARY:Anliegerpokal
DESCRIPTION:
URL:https://sportfischer-krummensee.de/event/anliegerpokal/
LOCATION:Vereinshaus
END:VEVENT
BEGIN:VEVENT
DTSTART;VALUE=DATE:20261004
DTEND;VALUE=DATE:20261005
DTSTAMP:20260425T160925
CREATED:20260111T151321Z
LAST-MODIFIED:20260111T151321Z
UID:1875-1791072000-1791158399@sportfischer-krummensee.de
SUMMARY:Kreisspinnangeln
DESCRIPTION:Beginn: 08:00 Uhr
URL:https://sportfischer-krummensee.de/event/kreisspinnangeln/
LOCATION:Schmölde
END:VEVENT
BEGIN:VEVENT
DTSTART;VALUE=DATE:20261106
DTEND;VALUE=DATE:20261109
DTSTAMP:20260425T160925
CREATED:20260111T151537Z
LAST-MODIFIED:20260111T151537Z
UID:1877-1793923200-1794182399@sportfischer-krummensee.de
SUMMARY:Brandungsangeln
DESCRIPTION:
URL:https://sportfischer-krummensee.de/event/brandungsangeln/
END:VEVENT
BEGIN:VEVENT
DTSTART;VALUE=DATE:20261114
DTEND;VALUE=DATE:20261115
DTSTAMP:20260425T160925
CREATED:20260111T151703Z
LAST-MODIFIED:20260111T151728Z
UID:1879-1794614400-1794700799@sportfischer-krummensee.de
SUMMARY:Skat/Romee'
DESCRIPTION:Beginn: 16:00 Uhr
URL:https://sportfischer-krummensee.de/event/skat-rommee/
LOCATION:Vereinshaus
END:VEVENT
BEGIN:VEVENT
DTSTART;TZID=Europe/Paris:20261121T080000
DTEND;TZID=Europe/Paris:20261121T120000
DTSTAMP:20260425T160925
CREATED:20260111T151832Z
LAST-MODIFIED:20260111T151832Z
UID:1882-1795248000-1795262400@sportfischer-krummensee.de
SUMMARY:Raubfischangeln
DESCRIPTION:
URL:https://sportfischer-krummensee.de/event/raubfischangeln/
LOCATION:Vereinshaus
END:VEVENT
BEGIN:VEVENT
DTSTART;TZID=Europe/Paris:20261128T080000
DTEND;TZID=Europe/Paris:20261128T120000
DTSTAMP:20260425T160925
CREATED:20260111T151954Z
LAST-MODIFIED:20260111T151954Z
UID:1884-1795852800-1795867200@sportfischer-krummensee.de
SUMMARY:Arbeitseinsatz
DESCRIPTION:Boote
URL:https://sportfischer-krummensee.de/event/arbeitseinsatz-2/
LOCATION:Vereinshaus
END:VEVENT
BEGIN:VEVENT
DTSTART;TZID=Europe/Paris:20261212T110000
DTEND;TZID=Europe/Paris:20261212T140000
DTSTAMP:20260425T160925
CREATED:20250221T092429Z
LAST-MODIFIED:20260111T084521Z
UID:1795-1797073200-1797084000@sportfischer-krummensee.de
SUMMARY:Adventsangeln
DESCRIPTION:
URL:https://sportfischer-krummensee.de/event/adventsangeln/
LOCATION:Vereinshaus
CATEGORIES:Angeln
END:VEVENT
BEGIN:VEVENT
DTSTART;TZID=Europe/Paris:20270109T140000
DTEND;TZID=Europe/Paris:20270109T153000
DTSTAMP:20260425T160925
CREATED:20260111T152129Z
LAST-MODIFIED:20260111T152129Z
UID:1886-1799503200-1799508600@sportfischer-krummensee.de
SUMMARY:Jahreshauptversammlung
DESCRIPTION:
URL:https://sportfischer-krummensee.de/event/jahreshauptversammlung/
LOCATION:Vereinshaus
END:VEVENT
END:VCALENDAR